BEGIN:VCALENDAR
VERSION:2.0
METHOD:PUBLISH
PRODID:-//Telerik Inc.//Sitefinity CMS 15.3//EN
BEGIN:VTIMEZONE
TZID:Eastern Standard Time
BEGIN:STANDARD
DTSTART:20251102T020000
RRULE:FREQ=YEARLY;BYDAY=1SU;BYHOUR=2;BYMINUTE=0;BYMONTH=11
TZNAME:Eastern Standard Time
TZOFFSETFROM:-0400
TZOFFSETTO:-0500
END:STANDARD
BEGIN:DAYLIGHT
DTSTART:20250301T020000
RRULE:FREQ=YEARLY;BYDAY=2SU;BYHOUR=2;BYMINUTE=0;BYMONTH=3
TZNAME:Eastern Daylight Time
TZOFFSETFROM:-0500
TZOFFSETTO:-0400
END:DAYLIGHT
END:VTIMEZONE
BEGIN:VEVENT
DESCRIPTION:About The WebinarThe Prototype Provision is a classification wi
 thin Chapter 98 (9817.85.01) of the Harmonized Tariff Schedule of the U.S.
  that allows for the reduction of duty on most imports of originals or mod
 els of articles used exclusively for development\, testing\, product evalu
 ation\, or quality control purposes. Proper use of this provision can be a
  useful tool for importers looking to reduce duties.&nbsp\;&nbsp\;This web
 inar will cover the following topics as they relate to the Prototype Provi
 sion.Key TopicsRegulatory frameworkWhat a prototype isRequirements for use
  of this provisionWhat duties are eliminatedWhen to declare the provisionC
 ommon pitfalls of using this provisionBest practices for using this provis
 ionhttps://www.strtrade.com/training/events/upcoming-webinars/using-the-pr
 ototype-provision-for-duty-savings&nbsp\;
DTEND:20260421T190000Z
DTSTAMP:20260421T221551Z
DTSTART:20260421T180000Z
LOCATION:
SEQUENCE:0
SUMMARY:STR Webinar: Using the Prototype Provision for Duty Savings
UID:RFCALITEM639124065513844729
X-ALT-DESC;FMTTYPE=text/html:<div>About The Webinar</div><div>The Prototype
  Provision is a classification within Chapter 98 (9817.85.01) of the Harmo
 nized Tariff Schedule of the U.S. that allows for the reduction of duty on
  most imports of originals or models of articles used exclusively for deve
 lopment\, testing\, product evaluation\, or quality control purposes. Prop
 er use of this provision can be a useful tool for importers looking to red
 uce duties.&nbsp\;&nbsp\;</div><div><br></div><div>This webinar will cover
  the following topics as they relate to the Prototype Provision.</div><div
 >Key Topics</div><div>Regulatory framework</div><div>What a prototype is</
 div><div>Requirements for use of this provision</div><div>What duties are 
 eliminated</div><div>When to declare the provision</div><div>Common pitfal
 ls of using this provision</div><div><p>Best practices for using this prov
 ision</p><p><a href="https://www.strtrade.com/training/events/upcoming-web
 inars/using-the-prototype-provision-for-duty-savings">https://www.strtrade
 .com/training/events/upcoming-webinars/using-the-prototype-provision-for-d
 uty-savings</a>&nbsp\;</p></div>
END:VEVENT
END:VCALENDAR
