BEGIN:VCALENDAR
VERSION:2.0
METHOD:PUBLISH
PRODID:-//Telerik Inc.//Sitefinity CMS 15.3//EN
BEGIN:VTIMEZONE
TZID:Central Standard Time
BEGIN:STANDARD
DTSTART:20251102T020000
RRULE:FREQ=YEARLY;BYDAY=1SU;BYHOUR=2;BYMINUTE=0;BYMONTH=11
TZNAME:Central Standard Time
TZOFFSETFROM:-0500
TZOFFSETTO:-0600
END:STANDARD
BEGIN:DAYLIGHT
DTSTART:20250301T020000
RRULE:FREQ=YEARLY;BYDAY=2SU;BYHOUR=2;BYMINUTE=0;BYMONTH=3
TZNAME:Central Daylight Time
TZOFFSETFROM:-0600
TZOFFSETTO:-0500
END:DAYLIGHT
END:VTIMEZONE
BEGIN:VEVENT
DESCRIPTION:Classification for import\, export\, FTA determination &amp\; c
 larification on Section 301 and Section 232. The classification &amp\; val
 uation of goods are major decisions! Critical information is not only for 
 duty purposes but also to determine whether goods are subject to quotas\, 
 restraints\, embargoes\, or other restrictions. Shipments with incorrect c
 lassifications may not reach their destination\, and/or you may be subject
 ed to penalties. Join us for this interactive\, live webinar and workshop.
  Registration includes a valuable reference book.https://www.globaltrainin
 gcenter.com/tariff-classification/&nbsp\;
DTEND:20260422T210000Z
DTSTAMP:20260421T221539Z
DTSTART:20260422T133000Z
LOCATION:
SEQUENCE:0
SUMMARY:GTC Tariff Classification Webinar
UID:RFCALITEM639124065394312729
X-ALT-DESC;FMTTYPE=text/html:<p>Classification for import\, export\, FTA de
 termination &amp\; clarification on Section 301 and Section 232. The class
 ification &amp\; valuation of goods are major decisions! Critical informat
 ion is not only for duty purposes but also to determine whether goods are 
 subject to quotas\, restraints\, embargoes\, or other restrictions. Shipme
 nts with incorrect classifications may not reach their destination\, and/o
 r you may be subjected to penalties. Join us for this interactive\, live w
 ebinar and workshop. Registration includes a valuable reference book.</p><
 p><a href="https://www.globaltrainingcenter.com/tariff-classification/">ht
 tps://www.globaltrainingcenter.com/tariff-classification/</a>&nbsp\;</p>
END:VEVENT
END:VCALENDAR
