BEGIN:VCALENDAR
VERSION:2.0
METHOD:PUBLISH
PRODID:-//Telerik Inc.//Sitefinity CMS 15.3//EN
BEGIN:VEVENT
DESCRIPTION:To deliver high-quality\, practical education and networking op
 portunities that equip logistics and trade professionals with the knowledg
 e\, tools\, and connections needed to succeed in an increasingly complex g
 lobal marketplace.https://momentumbymagaya.com/&nbsp\;
DTEND;VALUE=DATE:20260501
DTSTAMP:20260422T214453Z
DTSTART;VALUE=DATE:20260429
LOCATION:
SEQUENCE:0
SUMMARY:Magaya Corp: Momentum Conference by Magaya
UID:RFCALITEM639124910939974251
X-ALT-DESC;FMTTYPE=text/html:<p>To deliver high-quality\, practical educati
 on and networking opportunities that equip logistics and trade professiona
 ls with the knowledge\, tools\, and connections needed to succeed in an in
 creasingly complex global marketplace.</p><p><a href="https://momentumbyma
 gaya.com/">https://momentumbymagaya.com/</a>&nbsp\;</p>
END:VEVENT
END:VCALENDAR
