BEGIN:VCALENDAR
VERSION:2.0
METHOD:PUBLISH
PRODID:-//Telerik Inc.//Sitefinity CMS 15.3//EN
BEGIN:VEVENT
DESCRIPTION:With ongoing changes both domestically and internationally\, th
 e petroleum industry and its affiliates face new challenges and remarkable
  opportunities. Energy policy proves increasingly paramount with direct re
 gard to economic development and trade vitality. Please join us as we welc
 ome speakers from relevant backgrounds to the 2026 conference\, in the hea
 rt of the Nations’ Capitol. This year’s conference seeks to tackle subject
 s that include industry updates\, foreign trade agreements\, sanctions\, a
 nd much more! Don’t miss this exciting opportunity to learn and connect wi
 th industry members.We look forward to seeing you in Washington\, DC!Benef
 its of Participation:Hear from relevant government and industry leaders on
  the state of play of the new administrationUpdates on international trade
 \, including Section 301 and 232 tariffs and additional tariffs and quotas
 Information on other relevant issues affecting the oil and gas industryNet
 work with fellow industry professionalsWho Should Attend -Industry profess
 ionals including:AnalystsAttorneysCompliance OfficersCustoms &amp\; Entry 
 OfficersImport ManagersPresidentsTax AdvisorsTrade Officershttps://events.
 api.org/2026-international-trade-customs-conference/&nbsp\;
DTEND;VALUE=DATE:20260424
DTSTAMP:20260421T175121Z
DTSTART;VALUE=DATE:20260422
LOCATION:
SEQUENCE:0
SUMMARY:API: 2026 International Trade & Customs Conference
UID:RFCALITEM639123906813965067
X-ALT-DESC;FMTTYPE=text/html:<div>With ongoing changes both domestically an
 d internationally\, the petroleum industry and its affiliates face new cha
 llenges and remarkable opportunities. Energy policy proves increasingly pa
 ramount with direct regard to economic development and trade vitality. Ple
 ase join us as we welcome speakers from relevant backgrounds to the 2026 c
 onference\, in the heart of the Nations’ Capitol. This year’s conference s
 eeks to tackle subjects that include industry updates\, foreign trade agre
 ements\, sanctions\, and much more! Don’t miss this exciting opportunity t
 o learn and connect with industry members.</div><div><br></div><div>We loo
 k forward to seeing you in Washington\, DC!</div><div><br></div><div>Benef
 its of Participation:</div><div><br></div><div>Hear from relevant governme
 nt and industry leaders on the state of play of the new administration</di
 v><div><br></div><div>Updates on international trade\, including Section 3
 01 and 232 tariffs and additional tariffs and quotas</div><div><br></div><
 div>Information on other relevant issues affecting the oil and gas industr
 y</div><div><br></div><div>Network with fellow industry professionals</div
 ><div><br></div><div>Who Should Attend -Industry professionals including:<
 /div><div><br></div><div>Analysts</div><div>Attorneys</div><div>Compliance
  Officers</div><div>Customs &amp\; Entry Officers</div><div>Import Manager
 s</div><div>Presidents</div><div>Tax Advisors</div><div><p>Trade Officers<
 /p><p><a href="https://events.api.org/2026-international-trade-customs-con
 ference/">https://events.api.org/2026-international-trade-customs-conferen
 ce/</a>&nbsp\;</p></div>
END:VEVENT
END:VCALENDAR
