BEGIN:VCALENDAR
VERSION:2.0
METHOD:PUBLISH
PRODID:-//Telerik Inc.//Sitefinity CMS 15.3//EN
BEGIN:VTIMEZONE
TZID:Central Standard Time
BEGIN:STANDARD
DTSTART:20251102T020000
RRULE:FREQ=YEARLY;BYDAY=1SU;BYHOUR=2;BYMINUTE=0;BYMONTH=11
TZNAME:Central Standard Time
TZOFFSETFROM:-0500
TZOFFSETTO:-0600
END:STANDARD
BEGIN:DAYLIGHT
DTSTART:20250301T020000
RRULE:FREQ=YEARLY;BYDAY=2SU;BYHOUR=2;BYMINUTE=0;BYMONTH=3
TZNAME:Central Daylight Time
TZOFFSETFROM:-0600
TZOFFSETTO:-0500
END:DAYLIGHT
END:VTIMEZONE
BEGIN:VEVENT
DESCRIPTION:Tariff Classification Chicago for import\, export\, FTA determi
 nation &amp\; clarification on Section 301 and Section 232. The classifica
 tion &amp\; valuation of goods are major decisions! Critical information i
 s not only for duty purposes but also to determine whether goods are subje
 ct to quotas\, restraints\, embargoes\, or other restrictions. Shipments w
 ith incorrect classifications may not reach their destination\, and/or you
  may be subjected to penalties. Join us for this interactive\, in-person w
 orkshop. Registration includes a valuable reference book.https://www.globa
 ltrainingcenter.com/tariff-classification/&nbsp\;
DTEND:20260422T210000Z
DTSTAMP:20260421T221531Z
DTSTART:20260422T133000Z
LOCATION:
SEQUENCE:0
SUMMARY:GTC Tariff Classification Chicago\, IL
UID:RFCALITEM639124065318842618
X-ALT-DESC;FMTTYPE=text/html:<p></p><p>Tariff Classification Chicago for im
 port\, export\, FTA determination &amp\; clarification on Section 301 and 
 Section 232. The classification &amp\; valuation of goods are major decisi
 ons! Critical information is not only for duty purposes but also to determ
 ine whether goods are subject to quotas\, restraints\, embargoes\, or othe
 r restrictions. Shipments with incorrect classifications may not reach the
 ir destination\, and/or you may be subjected to penalties. Join us for thi
 s interactive\, in-person workshop. Registration includes a valuable refer
 ence book.</p><p><a href="https://www.globaltrainingcenter.com/tariff-clas
 sification/">https://www.globaltrainingcenter.com/tariff-classification/</
 a>&nbsp\;</p><p></p>
END:VEVENT
END:VCALENDAR
