BEGIN:VCALENDAR
VERSION:2.0
METHOD:PUBLISH
PRODID:-//Telerik Inc.//Sitefinity CMS 15.3//EN
BEGIN:VTIMEZONE
TZID:Central Standard Time
BEGIN:STANDARD
DTSTART:20251102T020000
RRULE:FREQ=YEARLY;BYDAY=1SU;BYHOUR=2;BYMINUTE=0;BYMONTH=11
TZNAME:Central Standard Time
TZOFFSETFROM:-0500
TZOFFSETTO:-0600
END:STANDARD
BEGIN:DAYLIGHT
DTSTART:20250301T020000
RRULE:FREQ=YEARLY;BYDAY=2SU;BYHOUR=2;BYMINUTE=0;BYMONTH=3
TZNAME:Central Daylight Time
TZOFFSETFROM:-0600
TZOFFSETTO:-0500
END:DAYLIGHT
END:VTIMEZONE
BEGIN:VEVENT
DESCRIPTION:This sector-specific three-day Chemical Classification Advanced
  Mini Course provides a comprehensive guide to classifying chemicals under
  the Harmonized Tariff Schedule. Each day begins with a 20–30-minute e-lea
 rning video\, followed by ongoing engagement in a discussion community\, w
 here students can ask questions and exchange insights throughout the cours
 e. Each day concludes with a live interactive session\, where Bonnie Kersc
 h answers questions and leads hands-on classification exercises. Day 1  co
 vers the fundamentals\, including chemical structure basics\, distinguishi
 ng organic vs. inorganic chemicals\, and recognizing cyclic vs. acyclic co
 mpounds. Day 2  explores more complex topics such as heterocyclic rings an
 d modified aromatics. Day 3  focuses on classifying chemical mixtures\, eq
 uipping students with the tools to navigate real-world classification chal
 lenges.&nbsp\;Disclaimer: This course is designed as a continuation and wi
 ll not cover foundational or introductory material.https://globaltrainingc
 enter.com/chemical-classification/&nbsp\;
DTEND:20260424T170000Z
DTSTAMP:20260421T221545Z
DTSTART:20260421T170000Z
LOCATION:
SEQUENCE:0
SUMMARY:GTC Chemical Webinar
UID:RFCALITEM639124065453843641
X-ALT-DESC;FMTTYPE=text/html:<div>This sector-specific three-day Chemical C
 lassification Advanced Mini Course provides a comprehensive guide to class
 ifying chemicals under the Harmonized Tariff Schedule. Each day begins wit
 h a 20–30-minute e-learning video\, followed by ongoing engagement in a di
 scussion community\, where students can ask questions and exchange insight
 s throughout the course. Each day concludes with a live interactive sessio
 n\, where Bonnie Kersch answers questions and leads hands-on classificatio
 n exercises. Day 1  covers the fundamentals\, including chemical structure
  basics\, distinguishing organic vs. inorganic chemicals\, and recognizing
  cyclic vs. acyclic compounds. Day 2  explores more complex topics such as
  heterocyclic rings and modified aromatics. Day 3  focuses on classifying 
 chemical mixtures\, equipping students with the tools to navigate real-wor
 ld classification challenges.&nbsp\;</div><div><br></div><div><p>Disclaime
 r: This course is designed as a continuation and will not cover foundation
 al or introductory material.</p><p><a href="https://globaltrainingcenter.c
 om/chemical-classification/">https://globaltrainingcenter.com/chemical-cla
 ssification/</a>&nbsp\;</p></div>
END:VEVENT
END:VCALENDAR
