BEGIN:VCALENDAR
VERSION:2.0
METHOD:PUBLISH
PRODID:-//Telerik Inc.//Sitefinity CMS 15.3//EN
BEGIN:VTIMEZONE
TZID:Central Standard Time
BEGIN:STANDARD
DTSTART:20251102T020000
RRULE:FREQ=YEARLY;BYDAY=1SU;BYHOUR=2;BYMINUTE=0;BYMONTH=11
TZNAME:Central Standard Time
TZOFFSETFROM:-0500
TZOFFSETTO:-0600
END:STANDARD
BEGIN:DAYLIGHT
DTSTART:20250301T020000
RRULE:FREQ=YEARLY;BYDAY=2SU;BYHOUR=2;BYMINUTE=0;BYMONTH=3
TZNAME:Central Daylight Time
TZOFFSETFROM:-0600
TZOFFSETTO:-0500
END:DAYLIGHT
END:VTIMEZONE
BEGIN:VEVENT
DESCRIPTION:Incoterms® 2020 Chicago – International Commercial Terms were c
 reated to facilitate international trade. But without a good understanding
  of Incoterms\, the terms you are using may be putting your company at ris
 k and adding unnecessary costs and confusion. You must understand which In
 coterms is best for your company. Take this class to understand when the t
 ransfer of risk moves from the Seller to the Buyer and who is responsible 
 for insurance. Understanding Incoterms is vital to importers\, exporters\,
  bankers\, and service providers. Join us for this interactive\, in-person
  course. Registration includes a valuable reference book. Incoterms is a r
 egistered trademark of ICC.https://www.globaltrainingcenter.com/incoterms/
 &nbsp\;&nbsp\;&nbsp\;&nbsp\;
DTEND:20260424T170000Z
DTSTAMP:20260421T221548Z
DTSTART:20260424T133000Z
LOCATION:
SEQUENCE:0
SUMMARY:GTC: Incoterms Chicago\, IL
UID:RFCALITEM639124065483844408
X-ALT-DESC;FMTTYPE=text/html:<p></p><p>Incoterms® 2020 Chicago – Internatio
 nal Commercial Terms were created to facilitate international trade. But w
 ithout a good understanding of Incoterms\, the terms you are using may be 
 putting your company at risk and adding unnecessary costs and confusion. Y
 ou must understand which Incoterms is best for your company. Take this cla
 ss to understand when the transfer of risk moves from the Seller to the Bu
 yer and who is responsible for insurance. Understanding Incoterms is vital
  to importers\, exporters\, bankers\, and service providers. Join us for t
 his interactive\, in-person course. Registration includes a valuable refer
 ence book. Incoterms is a registered trademark of ICC.</p><p><a href="http
 s://www.globaltrainingcenter.com/incoterms/">https://www.globaltrainingcen
 ter.com/incoterms/</a>&nbsp\;</p><p></p><p>&nbsp\;</p><p>&nbsp\;</p><p>&nb
 sp\;</p>
END:VEVENT
END:VCALENDAR
