BEGIN:VCALENDAR
VERSION:2.0
METHOD:PUBLISH
PRODID:-//Telerik Inc.//Sitefinity CMS 15.3//EN
BEGIN:VTIMEZONE
TZID:Eastern Standard Time
BEGIN:STANDARD
DTSTART:20251102T020000
RRULE:FREQ=YEARLY;BYDAY=1SU;BYHOUR=2;BYMINUTE=0;BYMONTH=11
TZNAME:Eastern Standard Time
TZOFFSETFROM:-0400
TZOFFSETTO:-0500
END:STANDARD
BEGIN:DAYLIGHT
DTSTART:20250301T020000
RRULE:FREQ=YEARLY;BYDAY=2SU;BYHOUR=2;BYMINUTE=0;BYMONTH=3
TZNAME:Eastern Daylight Time
TZOFFSETFROM:-0500
TZOFFSETTO:-0400
END:DAYLIGHT
END:VTIMEZONE
BEGIN:VEVENT
DESCRIPTION:If you import merchandise into the U.S.\, you may not realize\,
  but\, you are the responsible party!In this presentation\, our speakers w
 ill discuss how to comply with U.S. Customs and Border Protection’s (CBP) 
 vast laws and regulations and provide a comprehensive overview of the late
 st trade policy updates. By the end of the event\, you will know and under
 stand the importance of tariff classification (including what duty/tariff 
 applies)\, customs valuation\, country of origin marking\, intellectual pr
 operty rights and free trade agreements.Session Highlights:• Update on rec
 ent trade policy changes – tariffs\, de minimis• Importance of CBP Rulings
  for Classification\, Valuation and Country of Origin• Cost Savings practi
 ces like utilizing Free Trade Agreements• Importance of protecting intelle
 ctual property rights• Basic customs concepts and terms• Top tips to proac
 tively work with your Customs Broker• What to do if you encounter a CBP de
 tention and/or seizure case• Learn when to submit a prior disclosure to CB
 P• Top 10 tips when importing to ensure compliance• Learn key best practic
 es and hear real-life case studies• Learn what to do\, and more importantl
 y\, what NOT to do\, and what the consequences are for non-compliancehttps
 ://www.eventbrite.com/e/importing-101-navigating-cbp-regulations-for-impor
 t-success-tickets-1982680707368?utm-campaign=social&amp\;utm-content=atten
 deeshare&amp\;utm-medium=discovery&amp\;utm-term=listing&amp\;utm-source=c
 p&amp\;aff=ebdsshcopyurl&nbsp\;
DTEND:20260508T160000Z
DTSTAMP:20260421T221533Z
DTSTART:20260508T130000Z
LOCATION:
SEQUENCE:0
SUMMARY:DTL: Importing 101: Navigating CBP Regulations for Import Success
UID:RFCALITEM639124065333687493
X-ALT-DESC;FMTTYPE=text/html:<div><span style="background-color: initial\; 
 font-size: inherit\; text-align: inherit\; text-transform: inherit\; word-
 spacing: normal\; caret-color: auto\; white-space: inherit">If you import 
 merchandise into the U.S.\, you may not realize\, but\, you are the respon
 sible party!</span></div><div><br></div><div>In this presentation\, our sp
 eakers will discuss how to comply with U.S. Customs and Border Protection’
 s (CBP) vast laws and regulations and provide a comprehensive overview of 
 the latest trade policy updates. By the end of the event\, you will know a
 nd understand the importance of tariff classification (including what duty
 /tariff applies)\, customs valuation\, country of origin marking\, intelle
 ctual property rights and free trade agreements.</div><div><br></div><div>
 Session Highlights:</div><div><br></div><div>• Update on recent trade poli
 cy changes – tariffs\, de minimis</div><div>• Importance of CBP Rulings fo
 r Classification\, Valuation and Country of Origin</div><div>• Cost Saving
 s practices like utilizing Free Trade Agreements</div><div>• Importance of
  protecting intellectual property rights</div><div>• Basic customs concept
 s and terms</div><div>• Top tips to proactively work with your Customs Bro
 ker</div><div>• What to do if you encounter a CBP detention and/or seizure
  case</div><div>• Learn when to submit a prior disclosure to CBP</div><div
 >• Top 10 tips when importing to ensure compliance</div><div>• Learn key b
 est practices and hear real-life case studies</div><div><p>• Learn what to
  do\, and more importantly\, what NOT to do\, and what the consequences ar
 e for non-compliance</p><p><a href="https://www.eventbrite.com/e/importing
 -101-navigating-cbp-regulations-for-import-success-tickets-1982680707368?u
 tm-campaign=social&amp\;utm-content=attendeeshare&amp\;utm-medium=discover
 y&amp\;utm-term=listing&amp\;utm-source=cp&amp\;aff=ebdsshcopyurl">https:/
 /www.eventbrite.com/e/importing-101-navigating-cbp-regulations-for-import-
 success-tickets-1982680707368?utm-campaign=social&amp\;utm-content=attende
 eshare&amp\;utm-medium=discovery&amp\;utm-term=listing&amp\;utm-source=cp&
 amp\;aff=ebdsshcopyurl</a>&nbsp\;</p></div>
END:VEVENT
END:VCALENDAR
