BEGIN:VCALENDAR
VERSION:2.0
METHOD:PUBLISH
PRODID:-//Telerik Inc.//Sitefinity CMS 15.3//EN
BEGIN:VTIMEZONE
TZID:Eastern Standard Time
BEGIN:STANDARD
DTSTART:20251102T020000
RRULE:FREQ=YEARLY;BYDAY=1SU;BYHOUR=2;BYMINUTE=0;BYMONTH=11
TZNAME:Eastern Standard Time
TZOFFSETFROM:-0400
TZOFFSETTO:-0500
END:STANDARD
BEGIN:DAYLIGHT
DTSTART:20250301T020000
RRULE:FREQ=YEARLY;BYDAY=2SU;BYHOUR=2;BYMINUTE=0;BYMONTH=3
TZNAME:Eastern Daylight Time
TZOFFSETFROM:-0500
TZOFFSETTO:-0400
END:DAYLIGHT
END:VTIMEZONE
BEGIN:VEVENT
DESCRIPTION:The U.S. has more AD/CVD orders in place today than ever before
 \, with increasingly high duty rates being assessed in many cases. Figurin
 g out if specific products are covered by an AD/CVD investigation or order
  is therefore of vital importance for foreign producers and exporters as w
 ell as U.S. importers\, but it can be a daunting task.This 45-minute webin
 ar will explain how to interpret and apply the scope definition of AD/CVD 
 cases\, how scope language is drafted\, and how both the interpretation an
 d application of a scope can change over time. We will provide tools that 
 businesses can use to determine whether their products are covered by a pa
 rticular scope\, and we’ll explain when and how business should engage wit
 h the Commerce Department regarding scope issues.Key TopicsFundamentals of
  scope in AD/CVD casesHow scope language is interpreted and appliedHow sco
 pe ruling inquiries are conducted and how scope rulings can shift the impl
 ementation of AD/CVD ordersHow anticircumvention inquiries are conducted a
 nd how affirmative findings of circumvention can change scope coveragePote
 ntial future changes to scope development and implementationhttps://www.st
 rtrade.com/training/events/upcoming-webinars/understanding-scope-in-antidu
 mping-and-countervailing-duty-cases&nbsp\;
DTEND:20260422T190000Z
DTSTAMP:20260421T221546Z
DTSTART:20260422T180000Z
LOCATION:
SEQUENCE:0
SUMMARY:STR Webinar: Understanding Scope in Antidumping and Countervailing 
 Duty Cases
UID:RFCALITEM639124065468843708
X-ALT-DESC;FMTTYPE=text/html:<div>The U.S. has more AD/CVD orders in place 
 today than ever before\, with increasingly high duty rates being assessed 
 in many cases. Figuring out if specific products are covered by an AD/CVD 
 investigation or order is therefore of vital importance for foreign produc
 ers and exporters as well as U.S. importers\, but it can be a daunting tas
 k.</div><div><br></div><div>This 45-minute webinar will explain how to int
 erpret and apply the scope definition of AD/CVD cases\, how scope language
  is drafted\, and how both the interpretation and application of a scope c
 an change over time. We will provide tools that businesses can use to dete
 rmine whether their products are covered by a particular scope\, and we’ll
  explain when and how business should engage with the Commerce Department 
 regarding scope issues.</div><div>Key Topics</div><div>Fundamentals of sco
 pe in AD/CVD cases</div><div>How scope language is interpreted and applied
 </div><div>How scope ruling inquiries are conducted and how scope rulings 
 can shift the implementation of AD/CVD orders</div><div>How anticircumvent
 ion inquiries are conducted and how affirmative findings of circumvention 
 can change scope coverage</div><div><p>Potential future changes to scope d
 evelopment and implementation</p><p><a href="https://www.strtrade.com/trai
 ning/events/upcoming-webinars/understanding-scope-in-antidumping-and-count
 ervailing-duty-cases">https://www.strtrade.com/training/events/upcoming-we
 binars/understanding-scope-in-antidumping-and-countervailing-duty-cases</a
 >&nbsp\;</p></div>
END:VEVENT
END:VCALENDAR
