BEGIN:VCALENDAR
VERSION:2.0
METHOD:PUBLISH
PRODID:-//Telerik Inc.//Sitefinity CMS 15.3//EN
BEGIN:VTIMEZONE
TZID:Central Standard Time
BEGIN:STANDARD
DTSTART:20251102T020000
RRULE:FREQ=YEARLY;BYDAY=1SU;BYHOUR=2;BYMINUTE=0;BYMONTH=11
TZNAME:Central Standard Time
TZOFFSETFROM:-0500
TZOFFSETTO:-0600
END:STANDARD
BEGIN:DAYLIGHT
DTSTART:20250301T020000
RRULE:FREQ=YEARLY;BYDAY=2SU;BYHOUR=2;BYMINUTE=0;BYMONTH=3
TZNAME:Central Daylight Time
TZOFFSETFROM:-0600
TZOFFSETTO:-0500
END:DAYLIGHT
END:VTIMEZONE
BEGIN:VEVENT
DESCRIPTION:2 Half Days of Learning! Advanced Import Compliance. Did you kn
 ow that U.S. Customs requires that importers have written policy and proce
 dures for record-keeping and customs compliance? This course builds upon t
 echniques presented in our U.S. Importing course and explains how to imple
 ment and strengthen your import controls. The course also describes what y
 ou should do to prepare for the eventuality of a CBP audit.https://www.glo
 baltrainingcenter.com/importing-201/&nbsp\;
DTEND:20260427T171500Z
DTSTAMP:20260421T221536Z
DTSTART:20260427T140000Z
LOCATION:
SEQUENCE:0
SUMMARY:GTC Importing 201 Webinar
UID:RFCALITEM639124065363686698
X-ALT-DESC;FMTTYPE=text/html:<p></p><p>2 Half Days of Learning! Advanced Im
 port Compliance. Did you know that U.S. Customs requires that importers ha
 ve written policy and procedures for record-keeping and customs compliance
 ? This course builds upon techniques presented in our U.S. Importing cours
 e and explains how to implement and strengthen your import controls. The c
 ourse also describes what you should do to prepare for the eventuality of 
 a CBP audit.</p><p><a href="https://www.globaltrainingcenter.com/importing
 -201/">https://www.globaltrainingcenter.com/importing-201/</a>&nbsp\;</p><
 p></p>
END:VEVENT
END:VCALENDAR
