BEGIN:VCALENDAR
VERSION:2.0
METHOD:PUBLISH
PRODID:-//Telerik Inc.//Sitefinity CMS 15.3//EN
BEGIN:VTIMEZONE
TZID:Central Standard Time
BEGIN:STANDARD
DTSTART:20251102T020000
RRULE:FREQ=YEARLY;BYDAY=1SU;BYHOUR=2;BYMINUTE=0;BYMONTH=11
TZNAME:Central Standard Time
TZOFFSETFROM:-0500
TZOFFSETTO:-0600
END:STANDARD
BEGIN:DAYLIGHT
DTSTART:20250301T020000
RRULE:FREQ=YEARLY;BYDAY=2SU;BYHOUR=2;BYMINUTE=0;BYMONTH=3
TZNAME:Central Daylight Time
TZOFFSETFROM:-0600
TZOFFSETTO:-0500
END:DAYLIGHT
END:VTIMEZONE
BEGIN:VEVENT
DESCRIPTION:USMCA the Modernized NAFTA Chicago. This course is for those ne
 w to USMCA and for those already familiar with NAFTA. Learn what the new c
 hanges mean for you and how it will affect your current NAFTA process in t
 his USMCA course. Special sectors will be discussed and covered. You may n
 eed to change your supply chain to continue to benefit under the new agree
 ment. USMCA is probably the most complex Free Trade Agreement. Join us for
  this interactive\, in-person course. Registration includes a valuable ref
 erence book.https://www.globaltrainingcenter.com/usmca/&nbsp\;
DTEND:20260423T210000Z
DTSTAMP:20260421T221542Z
DTSTART:20260423T133000Z
LOCATION:
SEQUENCE:0
SUMMARY:GTC: USMCA Modernized NAFTA Chicago\, IL
UID:RFCALITEM639124065423843412
X-ALT-DESC;FMTTYPE=text/html:<p>USMCA the Modernized NAFTA Chicago. This co
 urse is for those new to USMCA and for those already familiar with NAFTA. 
 Learn what the new changes mean for you and how it will affect your curren
 t NAFTA process in this USMCA course. Special sectors will be discussed an
 d covered. You may need to change your supply chain to continue to benefit
  under the new agreement. USMCA is probably the most complex Free Trade Ag
 reement. Join us for this interactive\, in-person course. Registration inc
 ludes a valuable reference book.</p><p><a href="https://www.globaltraining
 center.com/usmca/">https://www.globaltrainingcenter.com/usmca/</a>&nbsp\;<
 /p>
END:VEVENT
END:VCALENDAR
