BEGIN:VCALENDAR
VERSION:2.0
METHOD:PUBLISH
PRODID:-//Telerik Inc.//Sitefinity CMS 15.3//EN
BEGIN:VTIMEZONE
TZID:Central Standard Time
BEGIN:STANDARD
DTSTART:20251102T020000
RRULE:FREQ=YEARLY;BYDAY=1SU;BYHOUR=2;BYMINUTE=0;BYMONTH=11
TZNAME:Central Standard Time
TZOFFSETFROM:-0500
TZOFFSETTO:-0600
END:STANDARD
BEGIN:DAYLIGHT
DTSTART:20250301T020000
RRULE:FREQ=YEARLY;BYDAY=2SU;BYHOUR=2;BYMINUTE=0;BYMONTH=3
TZNAME:Central Daylight Time
TZOFFSETFROM:-0600
TZOFFSETTO:-0500
END:DAYLIGHT
END:VTIMEZONE
BEGIN:VEVENT
DESCRIPTION:Learn to control your international shipments by directly coord
 inating your documents with transportation rules and procedures. Review th
 e air and ocean transportation &amp\; documentation process. A comprehensi
 ve review of the roles of the forwarder and the customs broker. Learn the 
 evaluation and selection process of the international forwarder\, customs 
 broker\, and carrier.https://www.globaltrainingcenter.com/international-lo
 gistics/&nbsp\;
DTEND:20260423T210000Z
DTSTAMP:20260421T175120Z
DTSTART:20260423T133000Z
LOCATION:
SEQUENCE:0
SUMMARY:GTC International Logistics Webinar
UID:RFCALITEM639123906809121059
X-ALT-DESC;FMTTYPE=text/html:<p></p><p>Learn to control your international 
 shipments by directly coordinating your documents with transportation rule
 s and procedures. Review the air and ocean transportation &amp\; documenta
 tion process. A comprehensive review of the roles of the forwarder and the
  customs broker. Learn the evaluation and selection process of the interna
 tional forwarder\, customs broker\, and carrier.</p><p><a href="https://ww
 w.globaltrainingcenter.com/international-logistics/">https://www.globaltra
 iningcenter.com/international-logistics/</a>&nbsp\;</p><p></p>
END:VEVENT
END:VCALENDAR
