BEGIN:VCALENDAR
VERSION:2.0
METHOD:PUBLISH
PRODID:-//Telerik Inc.//Sitefinity CMS 15.3//EN
BEGIN:VTIMEZONE
TZID:Central Standard Time
BEGIN:STANDARD
DTSTART:20251102T020000
RRULE:FREQ=YEARLY;BYDAY=1SU;BYHOUR=2;BYMINUTE=0;BYMONTH=11
TZNAME:Central Standard Time
TZOFFSETFROM:-0500
TZOFFSETTO:-0600
END:STANDARD
BEGIN:DAYLIGHT
DTSTART:20250301T020000
RRULE:FREQ=YEARLY;BYDAY=2SU;BYHOUR=2;BYMINUTE=0;BYMONTH=3
TZNAME:Central Daylight Time
TZOFFSETFROM:-0600
TZOFFSETTO:-0500
END:DAYLIGHT
END:VTIMEZONE
BEGIN:VEVENT
DESCRIPTION:This course is for those new to USMCA and for those already fam
 iliar with NAFTA. Learn what the new changes mean for you and how it will 
 affect your current NAFTA process in this USMCA course. Special sectors wi
 ll be discussed and covered. You may need to change your supply chain to c
 ontinue to benefit under the new agreement. USMCA is probably the most com
 plex Free Trade Agreement. Registration includes a valuable reference book
 .&nbsp\;https://www.globaltrainingcenter.com/usmca/&nbsp\;
DTEND:20260424T210000Z
DTSTAMP:20260421T221540Z
DTSTART:20260424T133000Z
LOCATION:
SEQUENCE:0
SUMMARY:GTC USMCA Modernized NAFTA Webinar
UID:RFCALITEM639124065408843285
X-ALT-DESC;FMTTYPE=text/html:<p>This course is for those new to USMCA and f
 or those already familiar with NAFTA. Learn what the new changes mean for 
 you and how it will affect your current NAFTA process in this USMCA course
 . Special sectors will be discussed and covered. You may need to change yo
 ur supply chain to continue to benefit under the new agreement. USMCA is p
 robably the most complex Free Trade Agreement. Registration includes a val
 uable reference book.&nbsp\;</p><p><a href="https://www.globaltrainingcent
 er.com/usmca/">https://www.globaltrainingcenter.com/usmca/</a>&nbsp\;</p>
END:VEVENT
END:VCALENDAR
