BEGIN:VCALENDAR
VERSION:2.0
METHOD:PUBLISH
PRODID:-//Telerik Inc.//Sitefinity CMS 15.3//EN
BEGIN:VEVENT
DESCRIPTION:Houston RegionHouston\, TXPurpose:The Base Metals Center of Exc
 ellence and Expertise and Port of Houston are pleased to announce an updat
 ed Steel Identification\, Classification and Trade Law Seminar to be condu
 cted on Tuesday\, May 12\, 2026\, and Wednesday\, May 13\, 2026.&nbsp\; Th
 e program is presented by technical\, commercial\, and legal experts from 
 the steel industry\, aims to increase the knowledge level of U.S. Customs 
 and Border Protection officials\, other U.S. Government Officials\, and Cu
 stomhouse Brokers regarding steel imports.&nbsp\; Please note that the sem
 inar program has been significantly modified\, revised\, and restructured 
 from previous seminars held in Houston\, and other ports across the countr
 y. This seminar program includes new material on Section 232 tariffs\, Sec
 tion 122 tariffs\, fraud\, circumvention and evasion\, and information on 
 current issues.&nbsp\;Action:The seminar is open to all members of the tra
 de/broker community as well as employees of the federal government. It is 
 not geographically restricted\; attendance from locations outside of the g
 eneral Houston area is encouraged.&nbsp\; Space is limited and free for U.
 S. Government employees. Please register early to assure a confirmed accep
 tance of your registration.&nbsp\;For registration information\, an initia
 l agenda\, and speakers’ list\, please visit http://www.steelseminar.us .T
 HE REGISTRATION DEADLINE IS TUESDAY\, April 21\, 2026. Any questions or co
 mments regarding this information should be directed to Deputy Director of
  the Base Metals Center Jonathan Restivo at jonathan.l.restivo@cbp.dhs.gov
  .
DTEND;VALUE=DATE:20260514
DTSTAMP:20260421T221534Z
DTSTART;VALUE=DATE:20260512
LOCATION:
SEQUENCE:0
SUMMARY:Steel Identification\, Classification and Trade Law Seminar
UID:RFCALITEM639124065348686632
X-ALT-DESC;FMTTYPE=text/html:<h1>Houston Region</h1><h3>Houston\, TX</h3><p
 ><strong>Purpose:</strong></p><p>The Base Metals Center of Excellence and 
 Expertise and Port of Houston are pleased to announce an updated Steel Ide
 ntification\, Classification and Trade Law Seminar to be conducted on Tues
 day\, May 12\, 2026\, and Wednesday\, May 13\, 2026.&nbsp\; The program is
  presented by technical\, commercial\, and legal experts from the steel in
 dustry\, aims to increase the knowledge level of U.S. Customs and Border P
 rotection officials\, other U.S. Government Officials\, and Customhouse Br
 okers regarding steel imports.&nbsp\; Please note that the seminar program
  has been significantly modified\, revised\, and restructured from previou
 s seminars held in Houston\, and other ports across the country. This semi
 nar program includes new material on Section 232 tariffs\, Section 122 tar
 iffs\, fraud\, circumvention and evasion\, and information on current issu
 es.&nbsp\;</p><p><strong>Action:</strong></p><p>The seminar is open to all
  members of the trade/broker community as well as employees of the federal
  government. It is not geographically restricted\; attendance from locatio
 ns outside of the general Houston area is encouraged.&nbsp\; Space is limi
 ted and free for U.S. Government employees. Please register early to assur
 e a confirmed acceptance of your registration.&nbsp\;</p><p>For registrati
 on information\, an initial agenda\, and speakers’ list\, please visit <a 
 href="https://links-1.govdelivery.com/CL0/http:%2F%2Fwww.steelseminar.us/1
 /0100019ce1fa89d9-d14185f2-5eab-4cba-acd3-e520e9321252-000000/oSFWg59wQPhJ
 selg8JlLlUuUW91qTO5KEoFNlKufoAE=448"><strong>http://www.steelseminar.us</s
 trong></a><strong> .</strong></p><p><strong>THE REGISTRATION DEADLINE IS T
 UESDAY\, April 21\, 2026. </strong></p>Any questions or comments regarding
  this information should be directed to Deputy Director of the Base Metals
  Center Jonathan Restivo at <a href="mailto:jonathan.l.restivo@cbp.dhs.gov
 ">jonathan.l.restivo@cbp.dhs.gov</a> .
END:VEVENT
END:VCALENDAR
