BEGIN:VCALENDAR
VERSION:2.0
METHOD:PUBLISH
PRODID:-//Telerik Inc.//Sitefinity CMS 15.3//EN
BEGIN:VEVENT
DESCRIPTION:NVOCC day in Miami at Port buildingdetails and registration TBD
 &nbsp\;Questions: sbailey@ncbfaa.org 
DTEND;VALUE=DATE:20261021
DTSTAMP:20260423T010302Z
DTSTART;VALUE=DATE:20261020
LOCATION:
SEQUENCE:0
SUMMARY:NCBFAA: NVOCC Day
UID:RFCALITEM639125029823373235
X-ALT-DESC;FMTTYPE=text/html:<p>NVOCC day in Miami at Port building</p><p>d
 etails and registration TBD&nbsp\;</p><p>Questions: sbailey@ncbfaa.org </p
 >
END:VEVENT
END:VCALENDAR
